BEGIN:VCALENDAR
VERSION:2.0
PRODID:-//wp-events-plugin.com//7.2.3.1//EN
TZID:America/New_York
X-WR-TIMEZONE:America/New_York
BEGIN:VEVENT
UID:236@roejanbrewing.com
DTSTART;TZID=America/New_York:20250714T173000
DTEND;TZID=America/New_York:20250714T193000
DTSTAMP:20250630T231440Z
URL:https://roejanbrewing.com/events/art-on-tap-with-tia-maggio/
SUMMARY:Art on Tap with Tia Maggio
DESCRIPTION:Join us on the patio on Monday\, July 14 for an evening of "Art
  on Tap"! Working on small canvases\, we'll create a summer gem.\n\nAll su
 pplies provided\, including photos of different landscapes to use for insp
 iration (or bring yourr own pics).\n\n$45 includes 2 glasses of beer or wi
 ne\, light snacks\, and all materials. (Additional food and drink may be p
 urchased at a 10% discount.)\n\nTo register\, email Colleen@roejanbrewing.
 com (advance registration required).\n\nAbout Tia:Tia is an artist and edu
 cator with a passion for inspiring others. Formally trained at Pratt Insti
 tute in graphic design and advertising and at the University of Massachuse
 tts\, Amherst\, in fine art and art education\, Tia brings a wealth of kno
 wledge and experience to her work.\n\nShe has taught art to all ages at in
 dependent schools in Virginia\, in her own art studio\, and at various lib
 raries in the professional role of Librarian and Programming. Tia naturall
 y fosters creativity and says\, “A great experience as an art teacher is
  when students and I share an Ah-Ha moment."
ATTACH;FMTTYPE=image/jpeg:https://roejanbrewing.com/wp-content/uploads/202
 5/06/Art-on-Tap-Instagram-Post-1.png
CATEGORIES:Public
END:VEVENT
BEGIN:VTIMEZONE
TZID:America/New_York
X-LIC-LOCATION:America/New_York
BEGIN:DAYLIGHT
DTSTART:20250309T030000
TZOFFSETFROM:-0500
TZOFFSETTO:-0400
TZNAME:EDT
END:DAYLIGHT
END:VTIMEZONE
END:VCALENDAR