BEGIN:VCALENDAR
VERSION:2.0
PRODID:-//wp-events-plugin.com//7.2.3.1//EN
TZID:America/New_York
X-WR-TIMEZONE:America/New_York
BEGIN:VEVENT
UID:355@roejanbrewing.com
DTSTART;TZID=America/New_York:20260404T190000
DTEND;TZID=America/New_York:20260404T210000
DTSTAMP:20260328T180709Z
URL:https://roejanbrewing.com/events/athron/
SUMMARY:Athron
DESCRIPTION:Athron is an Australian-born\, Brooklyn-based singer\, guitaris
 t\, and songwriter whose performances blend intimate acoustic storytelling
  with subtle\, loop-driven textures. Drawing from years of international t
 ouring and residencies across the U.S.\, Australia\, and Asia\, his sets m
 ove fluidly between original material and reimagined indie and alternative
  songs\, delivered with a restrained\, atmospheric touch.
ATTACH;FMTTYPE=image/jpeg:https://roejanbrewing.com/wp-content/uploads/202
 6/03/Athron-IG.webp
CATEGORIES:Public
END:VEVENT
BEGIN:VTIMEZONE
TZID:America/New_York
X-LIC-LOCATION:America/New_York
BEGIN:DAYLIGHT
DTSTART:20260308T030000
TZOFFSETFROM:-0500
TZOFFSETTO:-0400
TZNAME:EDT
END:DAYLIGHT
END:VTIMEZONE
END:VCALENDAR