BEGIN:VCALENDAR
VERSION:2.0
PRODID:-//wp-events-plugin.com//7.2.3.1//EN
TZID:America/New_York
X-WR-TIMEZONE:America/New_York
BEGIN:VEVENT
UID:243@roejanbrewing.com
DTSTART;TZID=America/New_York:20250823T190000
DTEND;TZID=America/New_York:20250823T210000
DTSTAMP:20250730T155523Z
URL:https://roejanbrewing.com/events/austin-bonk-2/
SUMMARY:Austin Bonk
DESCRIPTION:Austin Bonk plays blues\, folk\, and rock originals and covers.
ATTACH;FMTTYPE=image/jpeg:https://roejanbrewing.com/wp-content/uploads/202
 4/08/Austin-Bonk-Instagram-Post-1.webp
CATEGORIES:Public
END:VEVENT
BEGIN:VTIMEZONE
TZID:America/New_York
X-LIC-LOCATION:America/New_York
BEGIN:DAYLIGHT
DTSTART:20250309T030000
TZOFFSETFROM:-0500
TZOFFSETTO:-0400
TZNAME:EDT
END:DAYLIGHT
END:VTIMEZONE
END:VCALENDAR