BEGIN:VCALENDAR
VERSION:2.0
PRODID:-//wp-events-plugin.com//7.2.3.1//EN
TZID:America/New_York
X-WR-TIMEZONE:America/New_York
BEGIN:VEVENT
UID:162@roejanbrewing.com
DTSTART;TZID=America/New_York:20250214T180000
DTEND;TZID=America/New_York:20250214T200000
DTSTAMP:20250130T151326Z
URL:https://roejanbrewing.com/events/bob-green-colin-mccoy-rob-bradley-3/
SUMMARY:Bob Green\, Colin McCoy\, Rob Bradley
DESCRIPTION:Bluegrass\, swing\, honky tonk\, Celtic\, and old-time music.
ATTACH;FMTTYPE=image/jpeg:https://roejanbrewing.com/wp-content/uploads/202
 4/03/Bob-Green-Rob-Bradley-IG-2.webp
CATEGORIES:Public
END:VEVENT
BEGIN:VTIMEZONE
TZID:America/New_York
X-LIC-LOCATION:America/New_York
BEGIN:STANDARD
DTSTART:20241103T010000
TZOFFSETFROM:-0400
TZOFFSETTO:-0500
TZNAME:EST
END:STANDARD
END:VTIMEZONE
END:VCALENDAR