BEGIN:VCALENDAR
VERSION:2.0
PRODID:-//wp-events-plugin.com//7.2.3.1//EN
TZID:America/New_York
X-WR-TIMEZONE:America/New_York
BEGIN:VEVENT
UID:123@roejanbrewing.com
DTSTART;TZID=America/New_York:20241130T180000
DTEND;TZID=America/New_York:20241130T200000
DTSTAMP:20241019T162413Z
URL:https://roejanbrewing.com/events/bob-stump-2/
SUMMARY:Bob Stump
DESCRIPTION:A hybrid of Americana sounds\, blending bluegrass\, blues\, cou
 ntry\, rock and jazz in covers and originals.
ATTACH;FMTTYPE=image/jpeg:https://roejanbrewing.com/wp-content/uploads/202
 4/06/RJ-Stump.webp
CATEGORIES:Public
END:VEVENT
BEGIN:VTIMEZONE
TZID:America/New_York
X-LIC-LOCATION:America/New_York
BEGIN:STANDARD
DTSTART:20241103T010000
TZOFFSETFROM:-0400
TZOFFSETTO:-0500
TZNAME:EST
END:STANDARD
END:VTIMEZONE
END:VCALENDAR