BEGIN:VCALENDAR
VERSION:2.0
PRODID:-//wp-events-plugin.com//7.2.3.1//EN
TZID:America/New_York
X-WR-TIMEZONE:America/New_York
BEGIN:VEVENT
UID:46@roejanbrewing.com
DTSTART;TZID=America/New_York:20240608T180000
DTEND;TZID=America/New_York:20240608T200000
DTSTAMP:20240517T135902Z
URL:https://roejanbrewing.com/events/bunkhouse-boys-2/
SUMMARY:Bunkhouse Boys
DESCRIPTION:The Bunkhouse Boys play Cajun waltzes and two-steps\, with rhyt
 hms evoking the early days of southwest Louisiana Cajun music.
ATTACH;FMTTYPE=image/jpeg:https://roejanbrewing.com/wp-content/uploads/202
 4/02/Bunkhouse-Boys-Google-Instagram-Post-10.webp
CATEGORIES:Public
END:VEVENT
BEGIN:VTIMEZONE
TZID:America/New_York
X-LIC-LOCATION:America/New_York
BEGIN:DAYLIGHT
DTSTART:20240310T030000
TZOFFSETFROM:-0500
TZOFFSETTO:-0400
TZNAME:EDT
END:DAYLIGHT
END:VTIMEZONE
END:VCALENDAR