BEGIN:VCALENDAR
VERSION:2.0
PRODID:-//wp-events-plugin.com//7.2.3.1//EN
TZID:America/New_York
X-WR-TIMEZONE:America/New_York
BEGIN:VEVENT
UID:5@roejanbrewing.com
DTSTART;TZID=America/New_York:20240302T180000
DTEND;TZID=America/New_York:20240302T200000
DTSTAMP:20240228T172954Z
URL:https://roejanbrewing.com/events/bunkhouse-boys/
SUMMARY:Bunkhouse Boys
DESCRIPTION:The Bunkhouse Boys play Cajun waltzes and two-steps\, with rhyt
 hms evoking the early days of southwest Louisiana Cajun music.
ATTACH;FMTTYPE=image/jpeg:https://roejanbrewing.com/wp-content/uploads/202
 4/02/Bunkhouse-Boys-Google-Instagram-Post-10.webp
CATEGORIES:Public
END:VEVENT
BEGIN:VTIMEZONE
TZID:America/New_York
X-LIC-LOCATION:America/New_York
BEGIN:STANDARD
DTSTART:20231105T010000
TZOFFSETFROM:-0400
TZOFFSETTO:-0500
TZNAME:EST
END:STANDARD
END:VTIMEZONE
END:VCALENDAR