BEGIN:VCALENDAR
VERSION:2.0
PRODID:-//wp-events-plugin.com//7.2.3.1//EN
TZID:America/New_York
X-WR-TIMEZONE:America/New_York
BEGIN:VEVENT
UID:167@roejanbrewing.com
DTSTART;TZID=America/New_York:20250228T180000
DTEND;TZID=America/New_York:20250228T200000
DTSTAMP:20250130T151616Z
URL:https://roejanbrewing.com/events/carol-nick-duo-5/
SUMMARY:Carol & Nick Duo
DESCRIPTION:Carol & Nick are truly "the small band with the big sound" -- y
 ou won't believe the layers of sound that come from just two people!
ATTACH;FMTTYPE=image/jpeg:https://roejanbrewing.com/wp-content/uploads/202
 4/08/Carol-Nick-Instagram-2.webp
CATEGORIES:Public
END:VEVENT
BEGIN:VTIMEZONE
TZID:America/New_York
X-LIC-LOCATION:America/New_York
BEGIN:STANDARD
DTSTART:20241103T010000
TZOFFSETFROM:-0400
TZOFFSETTO:-0500
TZNAME:EST
END:STANDARD
END:VTIMEZONE
END:VCALENDAR