BEGIN:VCALENDAR
VERSION:2.0
PRODID:-//wp-events-plugin.com//7.2.3.1//EN
TZID:America/New_York
X-WR-TIMEZONE:America/New_York
BEGIN:VEVENT
UID:10@roejanbrewing.com
DTSTART;TZID=America/New_York:20240315T180000
DTEND;TZID=America/New_York:20240315T200000
DTSTAMP:20240311T204002Z
URL:https://roejanbrewing.com/events/chad-mcloughlin/
SUMMARY:Chad McLoughlin
DESCRIPTION:Chad McLoughlin is an accomplished\, versatile and innovative p
 erforming artist and composer. Chad has studied music since the age of 11 
 and has been performing professionally since he was 15. His creative appro
 ach and virtuosic technique have impressed audiences throughout his career
 .
ATTACH;FMTTYPE=image/jpeg:https://roejanbrewing.com/wp-content/uploads/202
 4/02/Chad-McLoughlin-IG-3.webp
CATEGORIES:Public
END:VEVENT
BEGIN:VTIMEZONE
TZID:America/New_York
X-LIC-LOCATION:America/New_York
BEGIN:DAYLIGHT
DTSTART:20240310T030000
TZOFFSETFROM:-0500
TZOFFSETTO:-0400
TZNAME:EDT
END:DAYLIGHT
END:VTIMEZONE
END:VCALENDAR