BEGIN:VCALENDAR
VERSION:2.0
PRODID:-//wp-events-plugin.com//7.2.3.1//EN
TZID:America/New_York
X-WR-TIMEZONE:America/New_York
BEGIN:VEVENT
UID:13@roejanbrewing.com
DTSTART;TZID=America/New_York:20240317T130000
DTEND;TZID=America/New_York:20240317T150000
DTSTAMP:20240311T204136Z
URL:https://roejanbrewing.com/events/curraugh/
SUMMARY:Curragh
DESCRIPTION:You can catch Curragh members Kara Doyle\, Eric Everson\, Pete
 r Jones\, John Roberts\, and George Ward performing Irish tunes all around
  the Capital District. They'll be on hand at Roe Jan on St. Patrick's Day 
 for an afternoon of traditional Irish music and song.
ATTACH;FMTTYPE=image/jpeg:https://roejanbrewing.com/wp-content/uploads/202
 4/02/Curragh-IG.webp
CATEGORIES:Public
END:VEVENT
BEGIN:VTIMEZONE
TZID:America/New_York
X-LIC-LOCATION:America/New_York
BEGIN:DAYLIGHT
DTSTART:20240310T030000
TZOFFSETFROM:-0500
TZOFFSETTO:-0400
TZNAME:EDT
END:DAYLIGHT
END:VTIMEZONE
END:VCALENDAR