BEGIN:VCALENDAR
VERSION:2.0
PRODID:-//wp-events-plugin.com//7.2.3.1//EN
TZID:America/New_York
X-WR-TIMEZONE:America/New_York
BEGIN:VEVENT
UID:137@roejanbrewing.com
DTSTART;TZID=America/New_York:20241228T180000
DTEND;TZID=America/New_York:20241228T200000
DTSTAMP:20241123T202442Z
URL:https://roejanbrewing.com/events/duo-andalucia-5/
SUMMARY:Duo Andalucia
DESCRIPTION:An evening of flamenco and jazz fusion.
ATTACH;FMTTYPE=image/jpeg:https://roejanbrewing.com/wp-content/uploads/202
 4/04/Duo-Andalucia-Poster-Instagram-Post-1.webp
END:VEVENT
BEGIN:VTIMEZONE
TZID:America/New_York
X-LIC-LOCATION:America/New_York
BEGIN:STANDARD
DTSTART:20241103T010000
TZOFFSETFROM:-0400
TZOFFSETTO:-0500
TZNAME:EST
END:STANDARD
END:VTIMEZONE
END:VCALENDAR