BEGIN:VCALENDAR
VERSION:2.0
PRODID:-//wp-events-plugin.com//7.2.3.1//EN
TZID:America/New_York
X-WR-TIMEZONE:America/New_York
BEGIN:VEVENT
UID:72@roejanbrewing.com
DTSTART;TZID=America/New_York:20240720T180000
DTEND;TZID=America/New_York:20240720T200000
DTSTAMP:20240713T130251Z
URL:https://roejanbrewing.com/events/ed-thorney-dave-mallison/
SUMMARY:Ed Thorney & Dave Mallison
DESCRIPTION:Ed and Dave are founding members of Northwest Passage\, joining
  us as a duo for an evening of Americana and country blues.
ATTACH;FMTTYPE=image/jpeg:https://roejanbrewing.com/wp-content/uploads/202
 4/07/Song-Swap-IG-1.webp
CATEGORIES:Public
END:VEVENT
BEGIN:VTIMEZONE
TZID:America/New_York
X-LIC-LOCATION:America/New_York
BEGIN:DAYLIGHT
DTSTART:20240310T030000
TZOFFSETFROM:-0500
TZOFFSETTO:-0400
TZNAME:EDT
END:DAYLIGHT
END:VTIMEZONE
END:VCALENDAR