BEGIN:VCALENDAR
VERSION:2.0
PRODID:-//wp-events-plugin.com//7.2.3.1//EN
TZID:America/New_York
X-WR-TIMEZONE:America/New_York
BEGIN:VEVENT
UID:66@roejanbrewing.com
DTSTART;TZID=America/New_York:20240714T170000
DTEND;TZID=America/New_York:20240714T190000
DTSTAMP:20240623T192853Z
URL:https://roejanbrewing.com/events/elly-wininger/
SUMMARY:Elly Wininger
DESCRIPTION:Country blues finger-style and slide guitar performed by award-
 winning songwriter Elly Wininger.
ATTACH;FMTTYPE=image/jpeg:https://roejanbrewing.com/wp-content/uploads/202
 4/06/Elly-Winninger-IG.webp
CATEGORIES:Public
END:VEVENT
BEGIN:VTIMEZONE
TZID:America/New_York
X-LIC-LOCATION:America/New_York
BEGIN:DAYLIGHT
DTSTART:20240310T030000
TZOFFSETFROM:-0500
TZOFFSETTO:-0400
TZNAME:EDT
END:DAYLIGHT
END:VTIMEZONE
END:VCALENDAR