BEGIN:VCALENDAR
VERSION:2.0
PRODID:-//wp-events-plugin.com//7.2.3.1//EN
TZID:America/New_York
X-WR-TIMEZONE:America/New_York
BEGIN:VEVENT
UID:301@roejanbrewing.com
DTSTART;TZID=America/New_York:20251214T170000
DTEND;TZID=America/New_York:20251214T190000
DTSTAMP:20251122T223319Z
URL:https://roejanbrewing.com/events/hot-chestnut-5/
SUMMARY:Hot Chestnut
DESCRIPTION:Local jazz guitarist Mark Phillips will be joined by Brad Brose
  on guitar\, Jonathan Greene on clarinet\, and Pete Toigo on upright bass.
  
ATTACH;FMTTYPE=image/jpeg:https://roejanbrewing.com/wp-content/uploads/202
 5/01/Mark-Phillips-iG-2.webp
CATEGORIES:Public
END:VEVENT
BEGIN:VTIMEZONE
TZID:America/New_York
X-LIC-LOCATION:America/New_York
BEGIN:STANDARD
DTSTART:20251102T010000
TZOFFSETFROM:-0400
TZOFFSETTO:-0500
TZNAME:EST
END:STANDARD
END:VTIMEZONE
END:VCALENDAR