BEGIN:VCALENDAR
VERSION:2.0
PRODID:-//wp-events-plugin.com//7.2.3.1//EN
TZID:America/New_York
X-WR-TIMEZONE:America/New_York
BEGIN:VEVENT
UID:288@roejanbrewing.com
DTSTART;TZID=America/New_York:20251123T170000
DTEND;TZID=America/New_York:20251123T190000
DTSTAMP:20251022T182128Z
URL:https://roejanbrewing.com/events/jeff-gonzalez-12/
SUMMARY:Jeff Gonzalez
DESCRIPTION:American finger style guitar\, ragtime\, old jazz\, originals\,
  and more
ATTACH;FMTTYPE=image/jpeg:https://roejanbrewing.com/wp-content/uploads/202
 4/04/Jeff-Gonzales-IG.webp
CATEGORIES:Public
END:VEVENT
BEGIN:VTIMEZONE
TZID:America/New_York
X-LIC-LOCATION:America/New_York
BEGIN:STANDARD
DTSTART:20251102T010000
TZOFFSETFROM:-0400
TZOFFSETTO:-0500
TZNAME:EST
END:STANDARD
END:VTIMEZONE
END:VCALENDAR