BEGIN:VCALENDAR
VERSION:2.0
PRODID:-//wp-events-plugin.com//7.2.3.1//EN
TZID:America/New_York
X-WR-TIMEZONE:America/New_York
BEGIN:VEVENT
UID:38@roejanbrewing.com
DTSTART;TZID=America/New_York:20240526T170000
DTEND;TZID=America/New_York:20240526T190000
DTSTAMP:20240517T173731Z
URL:https://roejanbrewing.com/events/jeff-gonzalez-2/
SUMMARY:Jeff Gonzalez
DESCRIPTION:American finger style guitar\, ragtime\, old jazz\, originals\,
  and more.
ATTACH;FMTTYPE=image/jpeg:https://roejanbrewing.com/wp-content/uploads/202
 4/04/Jeff-Gonzales-IG.webp
END:VEVENT
BEGIN:VTIMEZONE
TZID:America/New_York
X-LIC-LOCATION:America/New_York
BEGIN:DAYLIGHT
DTSTART:20240310T030000
TZOFFSETFROM:-0500
TZOFFSETTO:-0400
TZNAME:EDT
END:DAYLIGHT
END:VTIMEZONE
END:VCALENDAR