BEGIN:VCALENDAR
VERSION:2.0
PRODID:-//wp-events-plugin.com//7.2.3.1//EN
TZID:America/New_York
X-WR-TIMEZONE:America/New_York
BEGIN:VEVENT
UID:308@roejanbrewing.com
DTSTART;TZID=America/New_York:20251219T190000
DTEND;TZID=America/New_York:20251219T210000
DTSTAMP:20251213T200125Z
URL:https://roejanbrewing.com/events/jessi-rose/
SUMMARY:Jessi Rose
DESCRIPTION:Jessi Rose is a young woman with big dreams who began singing a
 s a child and has since become known for her powerhouse ballad vocals and 
 raw\, soul-stirring performances.\nSome of Jessi’s career highlights inc
 lude performing at renowned venues like The Paramount (Huntington\, NY)\, 
 Mohegan Sun Arena\, The Chance Theatre\, and Ridgefield Playhouse. Grammy 
 Award-winning songwriter Sam Hollander personally chose Jessi to open a me
 dley of his chart-topping songs (Panic! At The Disco\, Big Time Rush\, Tra
 in\, and more) at the Ridgefield Theatre Barn Platform Showcase Fundraiser
  Event. She has also given many radio interviews and was featured in the A
 mazon bestselling book Music Of The Hudson Valley Vol. 1.\n“Jess has a p
 owerful\, strong\, and very moving voice. She feels and grasps the tone an
 d mood of every song\, blending it all beautifully. From covering hits by 
 popular artists across genres to writing her own deeply personal songs\, J
 ess’s talent is undeniable. Her music is raw and relatable\, singing abo
 ut real-life struggles and the power to rise above it all.” – Kristia
 na Iaconis
ATTACH;FMTTYPE=image/jpeg:https://roejanbrewing.com/wp-content/uploads/202
 5/12/Jessi-Rose-1.webp
CATEGORIES:Public
END:VEVENT
BEGIN:VTIMEZONE
TZID:America/New_York
X-LIC-LOCATION:America/New_York
BEGIN:STANDARD
DTSTART:20251102T010000
TZOFFSETFROM:-0400
TZOFFSETTO:-0500
TZNAME:EST
END:STANDARD
END:VTIMEZONE
END:VCALENDAR