BEGIN:VCALENDAR
VERSION:2.0
PRODID:-//wp-events-plugin.com//7.2.3.1//EN
TZID:America/New_York
X-WR-TIMEZONE:America/New_York
BEGIN:VEVENT
UID:259@roejanbrewing.com
DTSTART;TZID=America/New_York:20250905T190000
DTEND;TZID=America/New_York:20250905T210000
DTSTAMP:20250824T162457Z
URL:https://roejanbrewing.com/events/john-whitbread-gypsy-swing/
SUMMARY:John Whitbread & Gypsy Swing
DESCRIPTION:John Whitbread is one the region’s foremost guitarists in the
  style of Django Reinhart. He is joined by musicians that work with him in
  a variety of settings and who share his love for all things “hot club
 ” -- David Howe on bass\, David Ray on violin\, and Bob Green on mandoli
 n.
ATTACH;FMTTYPE=image/jpeg:https://roejanbrewing.com/wp-content/uploads/202
 5/08/John-Whitbread-Gypsy-Swing-IG.webp
CATEGORIES:Public
END:VEVENT
BEGIN:VTIMEZONE
TZID:America/New_York
X-LIC-LOCATION:America/New_York
BEGIN:DAYLIGHT
DTSTART:20250309T030000
TZOFFSETFROM:-0500
TZOFFSETTO:-0400
TZNAME:EDT
END:DAYLIGHT
END:VTIMEZONE
END:VCALENDAR