BEGIN:VCALENDAR
VERSION:2.0
PRODID:-//wp-events-plugin.com//7.2.3.1//EN
TZID:America/New_York
X-WR-TIMEZONE:America/New_York
BEGIN:VEVENT
UID:126@roejanbrewing.com
DTSTART;TZID=America/New_York:20241108T180000
DTEND;TZID=America/New_York:20241108T200000
DTSTAMP:20241019T164605Z
URL:https://roejanbrewing.com/events/kent-besocke/
SUMMARY:Kent Besocke
DESCRIPTION:Kent Besocke's original songs blend the drive of rock\, the int
 imacy of folk\, the grit of country\, the soul of R&B\, and the tradition 
 of bluegrass. 
ATTACH;FMTTYPE=image/jpeg:https://roejanbrewing.com/wp-content/uploads/202
 4/10/Kent-Besocke-IG.webp
CATEGORIES:Public
END:VEVENT
BEGIN:VTIMEZONE
TZID:America/New_York
X-LIC-LOCATION:America/New_York
BEGIN:STANDARD
DTSTART:20241103T010000
TZOFFSETFROM:-0400
TZOFFSETTO:-0500
TZNAME:EST
END:STANDARD
END:VTIMEZONE
END:VCALENDAR