BEGIN:VCALENDAR
VERSION:2.0
PRODID:-//wp-events-plugin.com//7.2.3.1//EN
TZID:America/New_York
X-WR-TIMEZONE:America/New_York
BEGIN:VEVENT
UID:107@roejanbrewing.com
DTSTART;TZID=America/New_York:20241019T180000
DTEND;TZID=America/New_York:20241019T200000
DTSTAMP:20240922T214515Z
URL:https://roejanbrewing.com/events/luke-franco-mark-minkler/
SUMMARY:Luke Franco & Mark Minkler
DESCRIPTION:An evening of jazz guitar with Luke\, joined by Mark Minkler on
  bass.
ATTACH;FMTTYPE=image/jpeg:https://roejanbrewing.com/wp-content/uploads/202
 4/06/Luke-Franco-Instagram-3.webp
CATEGORIES:Public
END:VEVENT
BEGIN:VTIMEZONE
TZID:America/New_York
X-LIC-LOCATION:America/New_York
BEGIN:DAYLIGHT
DTSTART:20240310T030000
TZOFFSETFROM:-0500
TZOFFSETTO:-0400
TZNAME:EDT
END:DAYLIGHT
END:VTIMEZONE
END:VCALENDAR