BEGIN:VCALENDAR
VERSION:2.0
PRODID:-//wp-events-plugin.com//7.2.3.1//EN
TZID:America/New_York
X-WR-TIMEZONE:America/New_York
BEGIN:VEVENT
UID:325@roejanbrewing.com
DTSTART;TZID=America/New_York:20260131T190000
DTEND;TZID=America/New_York:20260131T210000
DTSTAMP:20251226T202114Z
URL:https://roejanbrewing.com/events/marc-delgado-3/
SUMMARY:Marc Delgado
DESCRIPTION:Marc Delgado is a singer/songwriter\, poet and storyteller from
  Woodstock\, NY. His recent studio album\, Wildwood Road\, is filled with 
 cinematic\, psychedelic snapshots of his days of addiction and violence\, 
 living out of motels up and down California’s San Joaquin Valley. Woven 
 into these scenes are songs of loss and survival\, redemption\, recovery a
 nd love.
ATTACH;FMTTYPE=image/jpeg:https://roejanbrewing.com/wp-content/uploads/202
 5/06/Marc-Delgado-IG.webp
CATEGORIES:Public
END:VEVENT
BEGIN:VTIMEZONE
TZID:America/New_York
X-LIC-LOCATION:America/New_York
BEGIN:STANDARD
DTSTART:20251102T010000
TZOFFSETFROM:-0400
TZOFFSETTO:-0500
TZNAME:EST
END:STANDARD
END:VTIMEZONE
END:VCALENDAR