BEGIN:VCALENDAR
VERSION:2.0
PRODID:-//wp-events-plugin.com//7.2.3.1//EN
TZID:America/New_York
X-WR-TIMEZONE:America/New_York
BEGIN:VEVENT
UID:233@roejanbrewing.com
DTSTART;TZID=America/New_York:20250726T190000
DTEND;TZID=America/New_York:20250726T210000
DTSTAMP:20250621T211546Z
URL:https://roejanbrewing.com/events/marc-delgado/
SUMMARY:Marc Delgado
DESCRIPTION:Marc Delgado is a singer/songwriter\, poet and storyteller from
  Woodstock\, NY. His recent studio album\, Wildwood Road\, is filled with 
 cinematic\, psychedelic snapshots of his days of addiction and violence\, 
 living out of motels up and down California’s San Joaquin Valley. Woven 
 into these scenes are songs of loss and survival\, redemption\, recovery a
 nd love.
ATTACH;FMTTYPE=image/jpeg:https://roejanbrewing.com/wp-content/uploads/202
 5/06/Marc-Delgado-IG.webp
CATEGORIES:Public
END:VEVENT
BEGIN:VTIMEZONE
TZID:America/New_York
X-LIC-LOCATION:America/New_York
BEGIN:DAYLIGHT
DTSTART:20250309T030000
TZOFFSETFROM:-0500
TZOFFSETTO:-0400
TZNAME:EDT
END:DAYLIGHT
END:VTIMEZONE
END:VCALENDAR