BEGIN:VCALENDAR
VERSION:2.0
PRODID:-//wp-events-plugin.com//7.2.3.1//EN
TZID:America/New_York
X-WR-TIMEZONE:America/New_York
BEGIN:VEVENT
UID:118@roejanbrewing.com
DTSTART;TZID=America/New_York:20241110T170000
DTEND;TZID=America/New_York:20241110T190000
DTSTAMP:20241019T161800Z
URL:https://roejanbrewing.com/events/marty-mcdermott-3/
SUMMARY:Marty McDermott
DESCRIPTION:Marty performs acoustic blues\, folk\, and rock. He currently l
 eads the Albany-based party/variety band The Reverberators\, plays in the 
 Americana band Far North\, and performs as a solo artist and in various du
 os throughout the Capital District/Hudson Valley region. 
ATTACH;FMTTYPE=image/jpeg:https://roejanbrewing.com/wp-content/uploads/202
 4/02/Marty-McDermott-Instagram-Post-13.webp
END:VEVENT
BEGIN:VTIMEZONE
TZID:America/New_York
X-LIC-LOCATION:America/New_York
BEGIN:STANDARD
DTSTART:20241103T010000
TZOFFSETFROM:-0400
TZOFFSETTO:-0500
TZNAME:EST
END:STANDARD
END:VTIMEZONE
END:VCALENDAR