BEGIN:VCALENDAR
VERSION:2.0
PRODID:-//wp-events-plugin.com//7.2.3.1//EN
TZID:America/New_York
X-WR-TIMEZONE:America/New_York
BEGIN:VEVENT
UID:293@roejanbrewing.com
DTSTART;TZID=America/New_York:20251108T190000
DTEND;TZID=America/New_York:20251108T210000
DTSTAMP:20251022T184132Z
URL:https://roejanbrewing.com/events/michael-oleary/
SUMMARY:Michael O'Leary
DESCRIPTION:Mike O’Leary is an acoustic guitarist and singer/songwriter f
 rom Kingston\, NY who plays a fun variety of familiar rock tunes from the 
 60s to the present. Beatles\, Van Morrison\, Neil Young\, Prince\, Pearl J
 am\, Dave Matthews\, and many others are all featured -- along with any re
 quests\, of course. Always a good time!
ATTACH;FMTTYPE=image/jpeg:https://roejanbrewing.com/wp-content/uploads/202
 5/10/Black-and-White-Minimalist-Coming-Soon-Instagram-Post.webp
CATEGORIES:Public
END:VEVENT
BEGIN:VTIMEZONE
TZID:America/New_York
X-LIC-LOCATION:America/New_York
BEGIN:STANDARD
DTSTART:20251102T010000
TZOFFSETFROM:-0400
TZOFFSETTO:-0500
TZNAME:EST
END:STANDARD
END:VTIMEZONE
END:VCALENDAR