BEGIN:VCALENDAR
VERSION:2.0
PRODID:-//wp-events-plugin.com//7.2.3.1//EN
TZID:America/New_York
X-WR-TIMEZONE:America/New_York
BEGIN:VEVENT
UID:189@roejanbrewing.com
DTSTART;TZID=America/New_York:20250418T180000
DTEND;TZID=America/New_York:20250418T200000
DTSTAMP:20250323T212321Z
URL:https://roejanbrewing.com/events/mick-lynch-4/
SUMMARY:Mick Lynch
DESCRIPTION:Mick Lynch is an Irish singer/songwriter from Dublin\, now base
 d in upstate New York. He is a founding member of Irish band The Guggenhei
 m Grotto (later\, Storyman) which enjoyed critical acclaim in the US and I
 reland.
ATTACH;FMTTYPE=image/jpeg:https://roejanbrewing.com/wp-content/uploads/202
 4/10/Mick-Lynch-IG-1.png
CATEGORIES:Public
END:VEVENT
BEGIN:VTIMEZONE
TZID:America/New_York
X-LIC-LOCATION:America/New_York
BEGIN:DAYLIGHT
DTSTART:20250309T030000
TZOFFSETFROM:-0500
TZOFFSETTO:-0400
TZNAME:EDT
END:DAYLIGHT
END:VTIMEZONE
END:VCALENDAR