BEGIN:VCALENDAR
VERSION:2.0
PRODID:-//wp-events-plugin.com//7.2.3.1//EN
TZID:America/New_York
X-WR-TIMEZONE:America/New_York
BEGIN:VEVENT
UID:113@roejanbrewing.com
DTSTART;TZID=America/New_York:20241027T170000
DTEND;TZID=America/New_York:20241027T190000
DTSTAMP:20241015T125618Z
URL:https://roejanbrewing.com/events/mick-lynch/
SUMMARY:Mick Lynch
DESCRIPTION:Mick Lynch is an Irish Singer/Songwriter from Dublin\, based in
  upstate New York. He is a founding member of Irish band The Guggenheim Gr
 otto (later\, Storyman) which enjoyed critical acclaim in the US and Irela
 nd.
ATTACH;FMTTYPE=image/jpeg:https://roejanbrewing.com/wp-content/uploads/202
 4/10/Mick-Lynch-IG-1.png
CATEGORIES:Public
END:VEVENT
BEGIN:VTIMEZONE
TZID:America/New_York
X-LIC-LOCATION:America/New_York
BEGIN:DAYLIGHT
DTSTART:20240310T030000
TZOFFSETFROM:-0500
TZOFFSETTO:-0400
TZNAME:EDT
END:DAYLIGHT
END:VTIMEZONE
END:VCALENDAR