BEGIN:VCALENDAR
VERSION:2.0
PRODID:-//wp-events-plugin.com//7.2.3.1//EN
TZID:America/New_York
X-WR-TIMEZONE:America/New_York
BEGIN:VEVENT
UID:263@roejanbrewing.com
DTSTART;TZID=America/New_York:20250927T190000
DTEND;TZID=America/New_York:20250927T210000
DTSTAMP:20250917T223911Z
URL:https://roejanbrewing.com/events/myles-mancuso/
SUMMARY:Myles Mancuso
DESCRIPTION:Myles Mancuso is a multi-instrumentalist and has been playing g
 uitar\, keyboards\, drums and bass since he was 10 years old\, most common
 ly fronting The Myles Mancuso Band\, where he sings and plays the guitar a
 nd keyboards. He composed\, performed\, produced\, and engineered all of t
 he original tracks on his first four albums. His original style of music i
 s a blend of roots/Americana and R&amp\;B.\n\nAfter studying musical perfo
 rmance at the Purchase Conservatory for Music in NY\, he relocated to the 
 Florida Keys where he performed up and down the Keys for a year and a half
 . He then relocated to Nashville where he spent about 2 years gigging nigh
 tly on Broadway\, at clubs like “The Stage\,” Gavin DeGraw’s “Nash
 ville Underground\,” and other top venues on the historic Music Row\, Br
 oadway Strip.  Myles also helped various local Nashville artists write an
 d record tracks at a number of studios around Music City\, playing bass\, 
 drums and keyboards for various up and coming artists in Nashville.\n\nMyl
 es has been fronting his own band and performing professionally for audien
 ces since the age of nine\, headlining many of Manhattan‘s top venues be
 fore he graduated high school. He’s frequently performed on some of the 
 top stages in New York City\, including BB King's\, The Brooklyn Bowl\, Th
 e Iridium Jazz Club\, The Cutting Room\, The Village Underground\, Rockwoo
 d Music Hall\, Café Wha\, and more.\n\nMyles has also played at popular f
 estivals such as the Warren Haynes' Mountain Jam Festival\, the Sarasota B
 lues Festival\, Gathering of the Vibes\, The New York State Blues Festival
 \, Rochester Jazz Festival\, and the Bethel Woods Blues Festival.  Along 
 with performing on well-known stages\, Myles’ Band has opened for a vari
 ety of national artists\, such as The Allman Brothers\, Buddy Guy\, Robert
  Cray\, Les Paul\, Levon Helm and others.\n\nSid Bernstein\, who is best k
 nown as the promoter who brought the Beatles to America\, said that "Myles
  is a bona fide prodigy that will thrill and captivate an audience.”  L
 es Paul stated\, "He reminds me of myself when I was a young boy.” Levon
  Helm\, Grammy winner and legendary drummer of The Band\, said\, "He may b
 e a boy\, but he sure plays like a man.” An audience member summed up be
 st what many people feel after hearing Myles play\, "It's like seeing a mu
 sical legend in the making.” It’s a performance you can’t miss!
ATTACH;FMTTYPE=image/jpeg:https://roejanbrewing.com/wp-content/uploads/202
 5/09/Myles-Mancuso-IG.webp
CATEGORIES:Public
END:VEVENT
BEGIN:VTIMEZONE
TZID:America/New_York
X-LIC-LOCATION:America/New_York
BEGIN:DAYLIGHT
DTSTART:20250309T030000
TZOFFSETFROM:-0500
TZOFFSETTO:-0400
TZNAME:EDT
END:DAYLIGHT
END:VTIMEZONE
END:VCALENDAR