BEGIN:VCALENDAR
VERSION:2.0
PRODID:-//wp-events-plugin.com//7.2.3.1//EN
TZID:America/New_York
X-WR-TIMEZONE:America/New_York
BEGIN:VEVENT
UID:45@roejanbrewing.com
DTSTART;TZID=America/New_York:20240601T180000
DTEND;TZID=America/New_York:20240601T210000
DTSTAMP:20240526T152947Z
URL:https://roejanbrewing.com/events/northwest-passage-3/
SUMMARY:Northwest Passage
DESCRIPTION:Bluesy folk\, Americana\, and a little R&B. 
ATTACH;FMTTYPE=image/jpeg:https://roejanbrewing.com/wp-content/uploads/202
 4/05/Northwest-Passage-POSTER-Instagram-Post-1.webp
END:VEVENT
BEGIN:VTIMEZONE
TZID:America/New_York
X-LIC-LOCATION:America/New_York
BEGIN:DAYLIGHT
DTSTART:20240310T030000
TZOFFSETFROM:-0500
TZOFFSETTO:-0400
TZNAME:EDT
END:DAYLIGHT
END:VTIMEZONE
END:VCALENDAR