BEGIN:VCALENDAR
VERSION:2.0
PRODID:-//wp-events-plugin.com//7.2.3.1//EN
TZID:America/New_York
X-WR-TIMEZONE:America/New_York
BEGIN:VEVENT
UID:319@roejanbrewing.com
DTSTART;TZID=America/New_York:20260117T190000
DTEND;TZID=America/New_York:20260117T210000
DTSTAMP:20251226T175303Z
URL:https://roejanbrewing.com/events/northwest-passage-9/
SUMMARY:Northwest Passage
DESCRIPTION:Northwest Passage's music evokes a sense of nostalgia\, reminis
 cent of the golden era of rock and roll\, blues\, and folk\, collectively 
 known as Americana. The band skillfully covers beloved B-side tracks from 
 iconic 60s and 70s groups such as the Talking Heads\, Little Feat\, The Wh
 o\, and the Rolling Stones\, alongside classics from the Grateful Dead\, C
 CR\, Eagles\, and Three Dog Night.
ATTACH;FMTTYPE=image/jpeg:https://roejanbrewing.com/wp-content/uploads/202
 5/08/Northwest-Passage-IG-3.webp
CATEGORIES:Public
END:VEVENT
BEGIN:VTIMEZONE
TZID:America/New_York
X-LIC-LOCATION:America/New_York
BEGIN:STANDARD
DTSTART:20251102T010000
TZOFFSETFROM:-0400
TZOFFSETTO:-0500
TZNAME:EST
END:STANDARD
END:VTIMEZONE
END:VCALENDAR