BEGIN:VCALENDAR
VERSION:2.0
PRODID:-//wp-events-plugin.com//7.2.3.1//EN
TZID:America/New_York
X-WR-TIMEZONE:America/New_York
BEGIN:VEVENT
UID:3@roejanbrewing.com
DTSTART;TZID=America/New_York:20240224T180000
DTEND;TZID=America/New_York:20240224T210000
DTSTAMP:20240219T192434Z
URL:https://roejanbrewing.com/events/northwest-passage/
SUMMARY:Northwest Passage
DESCRIPTION:Bluesy folk\, Americana\, and a little R&B. Time for some pre-g
 ame MUSIC shows! On Friday we're bringing back NORTHWEST PASSAGE for a hig
 h-energy evening of bluesy folk\, Americana\, and a little R&B. You've see
 n MOE GREENE play as part of the Whinin' Boys\; on Saturday he'll be rocki
 n' solo blues classics and originals. Grab a pint and a burger\, and get p
 umped for the big game!
ATTACH;FMTTYPE=image/jpeg:https://roejanbrewing.com/wp-content/uploads/202
 4/02/Northwest-Passage-IG.jpg
END:VEVENT
BEGIN:VTIMEZONE
TZID:America/New_York
X-LIC-LOCATION:America/New_York
BEGIN:STANDARD
DTSTART:20231105T010000
TZOFFSETFROM:-0400
TZOFFSETTO:-0500
TZNAME:EST
END:STANDARD
END:VTIMEZONE
END:VCALENDAR