BEGIN:VCALENDAR
VERSION:2.0
PRODID:-//wp-events-plugin.com//7.2.3.1//EN
TZID:America/New_York
X-WR-TIMEZONE:America/New_York
BEGIN:VEVENT
UID:97@roejanbrewing.com
DTSTART;TZID=America/New_York:20240927T180000
DTEND;TZID=America/New_York:20240927T200000
DTSTAMP:20240823T020630Z
URL:https://roejanbrewing.com/events/nuge-brothers/
SUMMARY:Nuge Brothers
DESCRIPTION:From rock to blues to country and swing\, Joe “Brotha Joe”
  Nugent and Vinny “Papa Nuge” Nugent perform an eclectic mix of tune
 s. Their sweet blend of keyboard and melodica and dobro and pedal steel gu
 itar puts a unique spin on covers from a wide range of artists. Nuge Broth
 ers tunes are perfect for dancing\, partying\, or just plain relaxing.
ATTACH;FMTTYPE=image/jpeg:https://roejanbrewing.com/wp-content/uploads/202
 4/08/Nuge-Brothers.webp
CATEGORIES:Public
END:VEVENT
BEGIN:VTIMEZONE
TZID:America/New_York
X-LIC-LOCATION:America/New_York
BEGIN:DAYLIGHT
DTSTART:20240310T030000
TZOFFSETFROM:-0500
TZOFFSETTO:-0400
TZNAME:EDT
END:DAYLIGHT
END:VTIMEZONE
END:VCALENDAR