BEGIN:VCALENDAR
VERSION:2.0
PRODID:-//wp-events-plugin.com//7.2.3.1//EN
TZID:America/New_York
X-WR-TIMEZONE:America/New_York
BEGIN:VEVENT
UID:117@roejanbrewing.com
DTSTART;TZID=America/New_York:20241109T180000
DTEND;TZID=America/New_York:20241109T200000
DTSTAMP:20241019T161712Z
URL:https://roejanbrewing.com/events/peter-calo-2/
SUMMARY:Peter Calo
DESCRIPTION:Peter interprets folk\, rock\, and Americana standards with mas
 terful acoustic guitar. Come see why Time Out London called him "one of th
 e most engaging performers in the biz."
ATTACH;FMTTYPE=image/jpeg:https://roejanbrewing.com/wp-content/uploads/202
 4/03/PETER-CALO-Instagram-Post.webp
CATEGORIES:Public
END:VEVENT
BEGIN:VTIMEZONE
TZID:America/New_York
X-LIC-LOCATION:America/New_York
BEGIN:STANDARD
DTSTART:20241103T010000
TZOFFSETFROM:-0400
TZOFFSETTO:-0500
TZNAME:EST
END:STANDARD
END:VTIMEZONE
END:VCALENDAR