BEGIN:VCALENDAR
VERSION:2.0
PRODID:-//wp-events-plugin.com//7.2.3.1//EN
TZID:America/New_York
X-WR-TIMEZONE:America/New_York
BEGIN:VEVENT
UID:140@roejanbrewing.com
DTSTART;TZID=America/New_York:20241229T170000
DTEND;TZID=America/New_York:20241229T190000
DTSTAMP:20241123T204458Z
URL:https://roejanbrewing.com/events/ramblin-dan-stevens/
SUMMARY:Ramblin' Dan Stevens
DESCRIPTION:Ramblin' Dan Stevens performs a mix of traditional fingerstyle 
 blues\, Americana and originals.
ATTACH;FMTTYPE=image/jpeg:https://roejanbrewing.com/wp-content/uploads/202
 4/11/Ramblin-Dan-Stevens-iG.webp
CATEGORIES:Public
END:VEVENT
BEGIN:VTIMEZONE
TZID:America/New_York
X-LIC-LOCATION:America/New_York
BEGIN:STANDARD
DTSTART:20241103T010000
TZOFFSETFROM:-0400
TZOFFSETTO:-0500
TZNAME:EST
END:STANDARD
END:VTIMEZONE
END:VCALENDAR