BEGIN:VCALENDAR
VERSION:2.0
PRODID:-//wp-events-plugin.com//7.2.3.1//EN
TZID:America/New_York
X-WR-TIMEZONE:America/New_York
BEGIN:VEVENT
UID:205@roejanbrewing.com
DTSTART;TZID=America/New_York:20250530T180000
DTEND;TZID=America/New_York:20250530T200000
DTSTAMP:20250423T124706Z
URL:https://roejanbrewing.com/events/robin-oherin-3/
SUMMARY:Robin O'Herin
DESCRIPTION:Robin O'Herin plays rootsy Delta bottleneck and Piedmont blues 
 and gospel.
ATTACH;FMTTYPE=image/jpeg:https://roejanbrewing.com/wp-content/uploads/202
 4/02/Robin-O-Herin.jpg
CATEGORIES:Public
END:VEVENT
BEGIN:VTIMEZONE
TZID:America/New_York
X-LIC-LOCATION:America/New_York
BEGIN:DAYLIGHT
DTSTART:20250309T030000
TZOFFSETFROM:-0500
TZOFFSETTO:-0400
TZNAME:EDT
END:DAYLIGHT
END:VTIMEZONE
END:VCALENDAR