BEGIN:VCALENDAR
VERSION:2.0
PRODID:-//wp-events-plugin.com//7.2.3.1//EN
TZID:America/New_York
X-WR-TIMEZONE:America/New_York
BEGIN:VEVENT
UID:1@roejanbrewing.com
DTSTART;TZID=America/New_York:20240225T170000
DTEND;TZID=America/New_York:20240225T190000
DTSTAMP:20240220T175320Z
URL:https://roejanbrewing.com/events/robin-oherin/
SUMMARY:Robin O’Herin
DESCRIPTION:"I thought I was back in the Mississippi Delta"--fan @ a recent
  concert\n"She plays a mean slide with a sweet spirit."--fan @ a recent co
 ncertfont\n\nRobin O'Herin is a touring blues and gospel musician\, specia
 lizing in historically rich\, often interactive concerts that include orig
 inal and traditional American music. Robin plays festivals\, coffeehouses\
 , & house concerts. Her concerts are warm\, affirming experiences she shar
 es with the audience. Let her take you on a journey of musical exploration
  through the Delta and Piedmont regions of the South. Song selections may 
 include Robert Johnson\, Blind Willie Johnson and Robin's own original blu
 es and fingerstyle ballads.
ATTACH;FMTTYPE=image/jpeg:https://roejanbrewing.com/wp-content/uploads/202
 4/02/Robin-O-Herin.jpg
CATEGORIES:Private,Public
END:VEVENT
BEGIN:VTIMEZONE
TZID:America/New_York
X-LIC-LOCATION:America/New_York
BEGIN:STANDARD
DTSTART:20231105T010000
TZOFFSETFROM:-0400
TZOFFSETTO:-0500
TZNAME:EST
END:STANDARD
END:VTIMEZONE
END:VCALENDAR