BEGIN:VCALENDAR
VERSION:2.0
PRODID:-//wp-events-plugin.com//7.2.3.1//EN
TZID:America/New_York
X-WR-TIMEZONE:America/New_York
BEGIN:VEVENT
UID:95@roejanbrewing.com
DTSTART;TZID=America/New_York:20240920T180000
DTEND;TZID=America/New_York:20240920T200000
DTSTAMP:20240823T013355Z
URL:https://roejanbrewing.com/events/shane-rennison/
SUMMARY:Shane Rennison
DESCRIPTION:New York-based singer-songwriter Shane Rennison\, known for his
  soulful energy and captivating live performances\, has garnered a dedicat
 ed following with his unique blend of indie pop rock. Characterized by aco
 ustic and electric guitar\, unique drum patterns\, and synth piano\, Shane
  draws comparisons to renowned artists like Vampire Weekend\, Passion Pit\
 , and Harry Styles.
ATTACH;FMTTYPE=image/jpeg:https://roejanbrewing.com/wp-content/uploads/202
 4/08/Shane-Rennison-Instagram-Post.webp
CATEGORIES:Public
END:VEVENT
BEGIN:VTIMEZONE
TZID:America/New_York
X-LIC-LOCATION:America/New_York
BEGIN:DAYLIGHT
DTSTART:20240310T030000
TZOFFSETFROM:-0500
TZOFFSETTO:-0400
TZNAME:EDT
END:DAYLIGHT
END:VTIMEZONE
END:VCALENDAR