BEGIN:VCALENDAR
VERSION:2.0
PRODID:-//wp-events-plugin.com//7.2.3.1//EN
TZID:America/New_York
X-WR-TIMEZONE:America/New_York
BEGIN:VEVENT
UID:275@roejanbrewing.com
DTSTART;TZID=America/New_York:20251025T190000
DTEND;TZID=America/New_York:20251025T210000
DTSTAMP:20250920T173640Z
URL:https://roejanbrewing.com/events/standard-edition-5/
SUMMARY:Standard Edition
DESCRIPTION:Standard Edition brings a richness and familiarity to jazz clas
 sics\, standards and soulful duets. A perfect backdrop for your evening\, 
 Robert Kelly\, Andrea Lubbers and Courtney Shayne Karl provide the foundat
 ion for this enchanting trio with piano\, bass and percussion accompanied 
 by strong vocal harmonies.  
ATTACH;FMTTYPE=image/jpeg:https://roejanbrewing.com/wp-content/uploads/202
 4/02/Standard-Edition-Facebook-Cover-Instagram-Post-Square-1.webp
CATEGORIES:Public
END:VEVENT
BEGIN:VTIMEZONE
TZID:America/New_York
X-LIC-LOCATION:America/New_York
BEGIN:DAYLIGHT
DTSTART:20250309T030000
TZOFFSETFROM:-0500
TZOFFSETTO:-0400
TZNAME:EDT
END:DAYLIGHT
END:VTIMEZONE
END:VCALENDAR