BEGIN:VCALENDAR
VERSION:2.0
PRODID:-//wp-events-plugin.com//7.2.3.1//EN
TZID:America/New_York
X-WR-TIMEZONE:America/New_York
BEGIN:VEVENT
UID:297@roejanbrewing.com
DTSTART;TZID=America/New_York:20251206T190000
DTEND;TZID=America/New_York:20251206T210000
DTSTAMP:20251122T223107Z
URL:https://roejanbrewing.com/events/standard-edition-6/
SUMMARY:Standard Edition
DESCRIPTION:Standard Edition brings a richness and familiarity to jazz clas
 sics\, standards and soulful duets. A perfect backdrop for your evening\, 
 Robert Kelly\, Andrea Lubbers and Courtney Shayne Karl provide the foundat
 ion for this enchanting trio with piano\, bass and percussion accompanied 
 by strong vocal harmonies.  
ATTACH;FMTTYPE=image/jpeg:https://roejanbrewing.com/wp-content/uploads/202
 4/02/Standard-Edition-Facebook-Cover-Instagram-Post-Square-1.webp
CATEGORIES:Public
END:VEVENT
BEGIN:VTIMEZONE
TZID:America/New_York
X-LIC-LOCATION:America/New_York
BEGIN:STANDARD
DTSTART:20251102T010000
TZOFFSETFROM:-0400
TZOFFSETTO:-0500
TZNAME:EST
END:STANDARD
END:VTIMEZONE
END:VCALENDAR