BEGIN:VCALENDAR
VERSION:2.0
PRODID:-//wp-events-plugin.com//7.2.3.1//EN
TZID:America/New_York
X-WR-TIMEZONE:America/New_York
BEGIN:VEVENT
UID:235@roejanbrewing.com
DTSTART;TZID=America/New_York:20250703T120000
DTEND;TZID=America/New_York:20250703T170000
DTSTAMP:20250630T231139Z
URL:https://roejanbrewing.com/events/sullivan-hazy-pale-ale-release-party/
SUMMARY:Sullivan Hazy Pale Ale Release Party
DESCRIPTION:Join our party to celebrate the release of Sullivan hazy pale a
 le -- brewed in collaboration with Antimony Brewing (Lenox\, MA) in memory
  of the infamous Boston Corners bare-knuckle fight between John Morrissey
  and “Yankee” Sullivan\, which lasted 37 rounds.\n\nWe'll be open 12-5
  PM in the Beer Garden\, offering tastes\, flights and pints\, as well as 
 pizza and pretzels. You can meet the brewers and tour the brewery\, too!
ATTACH;FMTTYPE=image/jpeg:https://roejanbrewing.com/wp-content/uploads/202
 5/06/Sullivan-Flyer-FB-Post.png
CATEGORIES:Public
END:VEVENT
BEGIN:VTIMEZONE
TZID:America/New_York
X-LIC-LOCATION:America/New_York
BEGIN:DAYLIGHT
DTSTART:20250309T030000
TZOFFSETFROM:-0500
TZOFFSETTO:-0400
TZNAME:EDT
END:DAYLIGHT
END:VTIMEZONE
END:VCALENDAR