BEGIN:VCALENDAR
VERSION:2.0
PRODID:-//wp-events-plugin.com//7.2.3.1//EN
TZID:America/New_York
X-WR-TIMEZONE:America/New_York
BEGIN:VEVENT
UID:260@roejanbrewing.com
DTSTART;TZID=America/New_York:20250920T190000
DTEND;TZID=America/New_York:20250920T210000
DTSTAMP:20250824T163813Z
URL:https://roejanbrewing.com/events/the-decoys/
SUMMARY:The Decoys
DESCRIPTION:Hailing from Rhinebeck NY\, The Decoys began as a duo between S
 inger/Guitarist Michael Mondello (Mo) and Bassist Chris Davison (Slim)\, l
 ater joined by Mandolin/Harmonica player Chuck Jacob (Harpo).  Recently t
 he band has been rounded out by Drummer Jamie Hurst (JR)\, and Singer/Guit
 arist Chris Karson (KMan)\, resulting in a powerhouse lineup of former mem
 bers of some of Rhinebeck's most notable bands.\n\nLed by Mondello\, The D
 ecoys delivers an upbeat\, fun\, freewheeling jam-oriented performance of 
 popular rock and roll songs in a refreshing Americana/Bluegrass style that
  the band affectionately refers to as Rockgrass.  The Decoys are influenc
 ed by The Kinks\, The Stones\, Petty\, The Beatles\, and The Dead\, but yo
 u will also hear an array of songs from the 80s and 90s up to current peri
 od with a spontaneous approach that keeps the crowd -- as well as the band
  -- guessing as to what will happen next!
ATTACH;FMTTYPE=image/jpeg:https://roejanbrewing.com/wp-content/uploads/202
 5/08/Decoys-IG.webp
CATEGORIES:Public
END:VEVENT
BEGIN:VTIMEZONE
TZID:America/New_York
X-LIC-LOCATION:America/New_York
BEGIN:DAYLIGHT
DTSTART:20250309T030000
TZOFFSETFROM:-0500
TZOFFSETTO:-0400
TZNAME:EDT
END:DAYLIGHT
END:VTIMEZONE
END:VCALENDAR