BEGIN:VCALENDAR
VERSION:2.0
PRODID:-//wp-events-plugin.com//7.2.3.1//EN
TZID:America/New_York
X-WR-TIMEZONE:America/New_York
BEGIN:VEVENT
UID:291@roejanbrewing.com
DTSTART;TZID=America/New_York:20251129T190000
DTEND;TZID=America/New_York:20251129T210000
DTSTAMP:20251022T182242Z
URL:https://roejanbrewing.com/events/the-whinin-boys-4/
SUMMARY:The Whinin' Boys
DESCRIPTION:The Whinin' Boys members Jeff Gonzales and Mike Mercier perform
  the music of the legendary blues duo Hot Tuna and more.
ATTACH;FMTTYPE=image/jpeg:https://roejanbrewing.com/wp-content/uploads/202
 4/03/The-Whinin-Boys-Instagram-4.webp
CATEGORIES:Public
END:VEVENT
BEGIN:VTIMEZONE
TZID:America/New_York
X-LIC-LOCATION:America/New_York
BEGIN:STANDARD
DTSTART:20251102T010000
TZOFFSETFROM:-0400
TZOFFSETTO:-0500
TZNAME:EST
END:STANDARD
END:VTIMEZONE
END:VCALENDAR