BEGIN:VCALENDAR
VERSION:2.0
PRODID:-//wp-events-plugin.com//7.2.3.1//EN
TZID:America/New_York
X-WR-TIMEZONE:America/New_York
BEGIN:VEVENT
UID:357@roejanbrewing.com
DTSTART;TZID=America/New_York:20260410T190000
DTEND;TZID=America/New_York:20260410T210000
DTSTAMP:20260328T182925Z
URL:https://roejanbrewing.com/events/tony-kieraldo/
SUMMARY:Tony Kieraldo
DESCRIPTION:Tony Kieraldo is a world-renowned pianist\, composer\, and musi
 cal director\, known for his work with Postmodern Jukebox\, as muscial di
 rector for Celebrate the Beat in Colorado\, and as a music teaching artist
  with the National Dance Institute in NYC.\n\nTony released Golden Keys
  in August 2025\, a project reimagining the iconic music of James Bond 
 for ragtime piano and voice\, featuring collaborations with incredible sin
 gers he has worked with in Postmodern Jukebox. He toured the first iterati
 on of the album in the UK in 2025 and will continue expanding the project 
 in 2026.\n\nHis album\, Hudson Ragtime Piano Suite\, written during the p
 andemic\, showcases his original compositions and the history of the 5 mai
 n streets of Hudson\, NY.\n\nHe regularly collaborates with tap dance sens
 ation Demi Remick\, releasing engaging arrangements ranging from The Wiz
 ard of Oz to Taylor Swift.\n\nIn 2017\, he conducted the critically accl
 aimed opera The Mother of Us All\, receiving rave reviews in The New Yor
 ker and The New York Times.\n\nHe has performed on The Late Show with S
 tephen Colbert and twice at the White House for the Obamas. Tony has also
  performed at Royal Albert Hall\, the Sydney Opera House\, the London Pall
 adium\, Town Hall\, the Ryman Auditorium\, and Tanglewood among many other
  incredible venues around the world.
ATTACH;FMTTYPE=image/jpeg:https://roejanbrewing.com/wp-content/uploads/202
 6/03/Tony-Kieraldo-IG.webp
CATEGORIES:Public
END:VEVENT
BEGIN:VTIMEZONE
TZID:America/New_York
X-LIC-LOCATION:America/New_York
BEGIN:DAYLIGHT
DTSTART:20260308T030000
TZOFFSETFROM:-0500
TZOFFSETTO:-0400
TZNAME:EDT
END:DAYLIGHT
END:VTIMEZONE
END:VCALENDAR