BEGIN:VCALENDAR
VERSION:2.0
PRODID:-//wp-events-plugin.com//7.2.3.1//EN
TZID:America/New_York
X-WR-TIMEZONE:America/New_York
BEGIN:VEVENT
UID:130@roejanbrewing.com
DTSTART;TZID=America/New_York:20241123T180000
DTEND;TZID=America/New_York:20241123T200000
DTSTAMP:20241120T001645Z
URL:https://roejanbrewing.com/events/wickers-creek/
SUMMARY:The Wickers Creek Band
DESCRIPTION:An evening of down-home bluegrass and traditional Americana.
ATTACH;FMTTYPE=image/jpeg:https://roejanbrewing.com/wp-content/uploads/202
 4/11/Untitled-design-5.webp
CATEGORIES:Public
END:VEVENT
BEGIN:VTIMEZONE
TZID:America/New_York
X-LIC-LOCATION:America/New_York
BEGIN:STANDARD
DTSTART:20241103T010000
TZOFFSETFROM:-0400
TZOFFSETTO:-0500
TZNAME:EST
END:STANDARD
END:VTIMEZONE
END:VCALENDAR